BEGIN:VCALENDAR
VERSION:2.0
PRODID:-//Plone.org//NONSGML plone.app.event//EN
X-WR-TIMEZONE:Europe/Vienna
BEGIN:VEVENT
SUMMARY:2nd Vienna Doctoral Student Symposion in Architecture
DTSTART;VALUE=DATE:20170928
DTEND;VALUE=DATE:20170930
DTSTAMP:20260424T201924Z
UID:84315174fcbbbe9c363e9f8a9d421820@www.akbild.ac.at
CREATED:20220312T190137Z
DESCRIPTION:For the second  time\, the public symposium brings together do
 ctoral students from all  three Viennese architecture schools (Akademie\, 
 TU Wien\, Angewandte) and\,  for the first time\, the Kunstuniversität Li
 nz\, and discusses current  perspectives in architectural research.
LAST-MODIFIED:20240802T103338Z
URL:https://www.akbild.ac.at/en/research/events/conferences/2017/2.-wiener
 -doktorand_innen-symposium-der-architektur/SubEvent
END:VEVENT
END:VCALENDAR
