BEGIN:VCALENDAR
VERSION:2.0
PRODID:-//Plone.org//NONSGML plone.app.event//EN
X-WR-TIMEZONE:Europe/Vienna
BEGIN:VEVENT
SUMMARY:Graduate Conference 2020
DTSTART;TZID=Europe/Vienna:20201022T120000
DTEND;TZID=Europe/Vienna:20201022T170000
DTSTAMP:20260424T233942Z
UID:e7fcaa40cd7db7b864deff4a858315ba@www.akbild.ac.at
CATEGORIES:Konferenzen
CREATED:20220312T190147Z
DESCRIPTION:The Graduate Conference serves to enhance the visibility of do
 ctoral research projects. The Call for Papers is available for advanced do
 ctoral candidates of the Academy of Fine Arts Vienna.
LAST-MODIFIED:20240802T103338Z
URL:https://www.akbild.ac.at/en/research/events/conferences/2020/graduiert
 enkonferenz-2020
END:VEVENT
BEGIN:VTIMEZONE
TZID:Europe/Vienna
X-LIC-LOCATION:Europe/Vienna
BEGIN:DAYLIGHT
DTSTART:20200329T030000
TZNAME:CEST
TZOFFSETFROM:+0100
TZOFFSETTO:+0200
END:DAYLIGHT
END:VTIMEZONE
END:VCALENDAR
