BEGIN:VCALENDAR
VERSION:2.0
PRODID:-//Plone.org//NONSGML plone.app.event//EN
X-WR-TIMEZONE:Europe/Vienna
BEGIN:VEVENT
SUMMARY:Graduate Conference 2022
DTSTART;TZID=Europe/Vienna:20220510T090000
DTEND;TZID=Europe/Vienna:20220510T123000
DTSTAMP:20260424T105346Z
UID:db8ae4a47965fd85068e89e2cc3d33b6@www.akbild.ac.at
CATEGORIES:Konferenzen
CREATED:20220312T190157Z
DESCRIPTION:The Graduate Conference serves to enhance the visibility of do
 ctoral research projects. The Call for Papers is available for advanced do
 ctoral candidates of the Academy of Fine Arts Vienna.
LAST-MODIFIED:20240802T103338Z
URL:https://www.akbild.ac.at/en/research/events/conferences/2022/graduiert
 enkonferenz-2022
END:VEVENT
BEGIN:VTIMEZONE
TZID:Europe/Vienna
X-LIC-LOCATION:Europe/Vienna
BEGIN:DAYLIGHT
DTSTART:20220327T030000
TZNAME:CEST
TZOFFSETFROM:+0100
TZOFFSETTO:+0200
END:DAYLIGHT
END:VTIMEZONE
END:VCALENDAR
