BEGIN:VCALENDAR
VERSION:2.0
PRODID:-//Plone.org//NONSGML plone.app.event//EN
X-WR-TIMEZONE:Europe/Vienna
BEGIN:VEVENT
SUMMARY:Research Day 2022 of the Academy
DTSTART;TZID=Europe/Vienna:20221116T093000
DTEND;TZID=Europe/Vienna:20221116T160000
DTSTAMP:20260425T031058Z
UID:bdcce17c64b94c64bd5610a3ecddc010@www.akbild.ac.at
CATEGORIES:Konferenzen
CREATED:20220902T085129Z
DESCRIPTION:The Research Day 2022 of the Academy presents the range of cur
 rent research activities at the Academy of Fine Arts Vienna\, gives insigh
 ts into specific projects and their results\, and encourages collegial dis
 cussions. The Research Day focuses on presentations of research projects i
 n advanced stages.
LAST-MODIFIED:20240802T103338Z
URL:https://www.akbild.ac.at/en/research/events/conferences/2022/research-
 day-2022-of-the-academy
END:VEVENT
BEGIN:VTIMEZONE
TZID:Europe/Vienna
X-LIC-LOCATION:Europe/Vienna
BEGIN:STANDARD
DTSTART:20221030T020000
TZNAME:CET
TZOFFSETFROM:+0200
TZOFFSETTO:+0100
END:STANDARD
END:VTIMEZONE
END:VCALENDAR
