BEGIN:VCALENDAR
VERSION:2.0
PRODID:-//Plone.org//NONSGML plone.app.event//EN
X-WR-TIMEZONE:Europe/Vienna
BEGIN:VEVENT
SUMMARY:Graduate Conference 2023
DTSTART;TZID=Europe/Vienna:20230425T093000
DTEND;TZID=Europe/Vienna:20230425T140000
DTSTAMP:20260419T162133Z
UID:0b09452c31c742628bec0909559d7002@www.akbild.ac.at
CREATED:20230403T082946Z
DESCRIPTION:We are pleased to invite you to this year's Graduate Conferenc
 e of the Center for Doctoral Studies.
LAST-MODIFIED:20240802T103338Z
URL:https://www.akbild.ac.at/en/research/events/conferences/2023/graduate-
 conference-2023
END:VEVENT
BEGIN:VTIMEZONE
TZID:Europe/Vienna
X-LIC-LOCATION:Europe/Vienna
BEGIN:DAYLIGHT
DTSTART:20230326T030000
TZNAME:CEST
TZOFFSETFROM:+0100
TZOFFSETTO:+0200
END:DAYLIGHT
END:VTIMEZONE
END:VCALENDAR
