BEGIN:VCALENDAR
VERSION:2.0
PRODID:-//Plone.org//NONSGML plone.app.event//EN
X-WR-TIMEZONE:Europe/Vienna
BEGIN:VEVENT
SUMMARY:Graduate Conference 2025
DTSTART;TZID=Europe/Vienna:20250515T093000
DTEND;TZID=Europe/Vienna:20250515T160000
DTSTAMP:20260423T171027Z
UID:cc923e65cc1143d6a6940c41809adcdf@www.akbild.ac.at
CATEGORIES:Konferenzen
CREATED:20241121T092851Z
DESCRIPTION:We are pleased to invite you to the Graduate Conference 2025 o
 f the Center for Doctoral Studies. On May 15\, doctoral and PhD candidates
  in their final phase will present results of their dissertation projects.
  We are looking forward to an exciting conference day with seven multiface
 ted presentations and lively discussions.
LAST-MODIFIED:20250429T111713Z
URL:https://www.akbild.ac.at/en/research/events/conferences/2025/graduate-
 conference-2025
END:VEVENT
BEGIN:VTIMEZONE
TZID:Europe/Vienna
X-LIC-LOCATION:Europe/Vienna
BEGIN:DAYLIGHT
DTSTART:20250330T030000
TZNAME:CEST
TZOFFSETFROM:+0100
TZOFFSETTO:+0200
END:DAYLIGHT
END:VTIMEZONE
END:VCALENDAR
