BEGIN:VCALENDAR
VERSION:2.0
PRODID:-//Plone.org//NONSGML plone.app.event//EN
X-WR-TIMEZONE:Europe/Vienna
BEGIN:VEVENT
SUMMARY:Open Library of Humanities (OLH) | How the Humanities are Changing
  Academic Publishing
DTSTART;TZID=Europe/Vienna:20160705T160000
DTSTAMP:20260425T162258Z
UID:c2be1754fa75149f9b0a7050a3fc4d79@www.akbild.ac.at
CATEGORIES:Vorträge / Veranstaltungen
CREATED:20220312T185941Z
DESCRIPTION:Caroline Edwards (University of London) will   consider the ra
 pidly changing open access (OA) landscape and its impact   on academic res
 earch\, with a lecture titled “How the Humanities are Changing Academic 
 Publishing”.
LAST-MODIFIED:20240802T103338Z
URL:https://www.akbild.ac.at/en/research/events/lectures-events/2016/open-
 library-of-humanities-olh-alternative-publikationsmodelle
END:VEVENT
BEGIN:VTIMEZONE
TZID:Europe/Vienna
X-LIC-LOCATION:Europe/Vienna
BEGIN:DAYLIGHT
DTSTART:20160327T030000
TZNAME:CEST
TZOFFSETFROM:+0100
TZOFFSETTO:+0200
END:DAYLIGHT
END:VTIMEZONE
END:VCALENDAR
