BEGIN:VCALENDAR
VERSION:2.0
PRODID:-//Plone.org//NONSGML plone.app.event//EN
X-WR-TIMEZONE:Europe/Vienna
BEGIN:VEVENT
SUMMARY:Survival-Training für Künstler_innen. Teil 1
DTSTART;TZID=Europe/Vienna:20200423T140000
DTEND;TZID=Europe/Vienna:20200423T153000
DTSTAMP:20260424T185753Z
UID:cc6a51ae2132032d44ff53b366d9f2ea@www.akbild.ac.at
CATEGORIES:Vorträge / Veranstaltungen
CREATED:20220312T190026Z
DESCRIPTION:Das Survival Training „Steuer und Sozialversicherung für K
 ünstler_innen“ findet als mehrteiliges Live-Video-Format statt. Teil 1 
 widmet sich dem Thema Steuer.
LAST-MODIFIED:20240802T103334Z
URL:https://www.akbild.ac.at/en/research/events/lectures-events/2020/survi
 val-training-fuer-kuenstler_innen.-teil-1
END:VEVENT
BEGIN:VTIMEZONE
TZID:Europe/Vienna
X-LIC-LOCATION:Europe/Vienna
BEGIN:DAYLIGHT
DTSTART:20200329T030000
TZNAME:CEST
TZOFFSETFROM:+0100
TZOFFSETTO:+0200
END:DAYLIGHT
END:VTIMEZONE
END:VCALENDAR
