BEGIN:VCALENDAR
VERSION:2.0
PRODID:-//Plone.org//NONSGML plone.app.event//EN
X-WR-TIMEZONE:Europe/Vienna
BEGIN:VEVENT
SUMMARY:Artists Have The Answers?
DTSTART;VALUE=DATE:20211029
DTEND;VALUE=DATE:20211031
DTSTAMP:20260423T113142Z
UID:043de5bb4b3e4e684e8be13cdc35d98b@www.akbild.ac.at
CATEGORIES:Vorträge / Veranstaltungen
CREATED:20220312T190043Z
DESCRIPTION:What happens when we bring the practices of  artists and consu
 ltants into the same space? Will it be a dance party or  a hypocritical br
 awl?\n \n \n  In late October 2021 we will convene a series of workshops  
 in hybrid form (online + in Vienna) to explore this possibility. As the  i
 nfluence of consultancy firms and their methods expand within spheres  of 
 the public and policy making\, we ask what artists can critically  adapt a
 nd appropriate from the interfaces\, frameworks\, tools\, and  practices o
 f the consulting field.
LAST-MODIFIED:20240802T103334Z
URL:https://www.akbild.ac.at/en/research/events/lectures-events/2021/artis
 ts-have-the-answers-workshop-open-call
END:VEVENT
END:VCALENDAR
