BEGIN:VCALENDAR
VERSION:2.0
PRODID:-//Plone.org//NONSGML plone.app.event//EN
X-WR-TIMEZONE:Europe/Vienna
BEGIN:VEVENT
SUMMARY:Invitation to Defense of Hanna Husberg
DTSTART;TZID=Europe/Vienna:20211019T160000
DTSTAMP:20260425T235228Z
UID:9cc1790c0d57a6eabe6be6c40073d018@www.akbild.ac.at
CATEGORIES:Vorträge / Veranstaltungen
CREATED:20220312T190039Z
DESCRIPTION:The Ph.D. in Practice Program of the Academy of Fine Arts Vien
 na kindly invites you to the\n \n  Defense\n \n of\n \n  Hanna Husberg’s
 \n \n dissertation project\n \n  \n   Troubled Atmosphere – On Noticing 
 Air\n  \n  .\n \n\n\n The Defense Committee is made up of: Axel Stockburge
 r (chair)\, Anette Baldauf and Renate Lorenz (1st and 2nd supervisor)\, an
 d Cecilia Åsberg (external appraiser\, Linköping University).
LAST-MODIFIED:20240802T103334Z
URL:https://www.akbild.ac.at/en/research/events/lectures-events/2021/einla
 dung-zur-defensio-von-hanna-husberg
END:VEVENT
BEGIN:VTIMEZONE
TZID:Europe/Vienna
X-LIC-LOCATION:Europe/Vienna
BEGIN:DAYLIGHT
DTSTART:20210328T030000
TZNAME:CEST
TZOFFSETFROM:+0100
TZOFFSETTO:+0200
END:DAYLIGHT
END:VTIMEZONE
END:VCALENDAR
