BEGIN:VCALENDAR
VERSION:2.0
PRODID:-//Plone.org//NONSGML plone.app.event//EN
X-WR-TIMEZONE:Europe/Vienna
BEGIN:VEVENT
SUMMARY:Invitation to the Defense of Johannes Siegmund
DTSTART;TZID=Europe/Vienna:20211112T103000
DTSTAMP:20260425T105710Z
UID:d667868a1b543298ed426811ee6ef6af@www.akbild.ac.at
CATEGORIES:Vorträge / Veranstaltungen
CREATED:20220312T190044Z
DESCRIPTION:The Institute for Art Theory and and Cultural Studies of the A
 cademy of Fine Arts Vienna indly invites you to the Defense of Johannes Si
 egmund's dissertation project\n \n  Expulsion and Founding\, on the politi
 cial theory of flight and escape.\n \n\n\n The Defense Committee is made u
 p of: PD Dr. habil. Jens Kastner (chair)\, Univ.-Prof. Dr. Ruth Sonderegge
 r (1st  supervisor)\, and assoc. Prof. Andreas Oberprantacher  (2nd  appra
 iser).
LAST-MODIFIED:20240802T103334Z
URL:https://www.akbild.ac.at/en/research/events/lectures-events/2021/einla
 dung-zur-defensio-von-johannes-siegmund
END:VEVENT
BEGIN:VTIMEZONE
TZID:Europe/Vienna
X-LIC-LOCATION:Europe/Vienna
BEGIN:STANDARD
DTSTART:20211031T020000
TZNAME:CET
TZOFFSETFROM:+0200
TZOFFSETTO:+0100
END:STANDARD
END:VTIMEZONE
END:VCALENDAR
