BEGIN:VCALENDAR
VERSION:2.0
PRODID:-//Plone.org//NONSGML plone.app.event//EN
X-WR-TIMEZONE:Europe/Vienna
BEGIN:VEVENT
SUMMARY:Invitation to Defense of Max Rafael Moya Martinez
DTSTART;TZID=Europe/Vienna:20211006T180000
DTSTAMP:20260423T161714Z
UID:df40c7f97e0969207b7a6f5bca393563@www.akbild.ac.at
CATEGORIES:Vorträge / Veranstaltungen
CREATED:20220312T190033Z
DESCRIPTION:The Institute for Art and Architecture of the Academy of Fine 
 Arts Vienna kindly invites you to the  Defense  of  Max Rafael Moya Martin
 ez'  dissertation project   Who has seen Adolf Loos ?: Images of Adolf Loo
 s’s Architecture in the Media 1899-1927  . \nThe Defense Committee is ma
 de up of: Univ:Prof. Mag. MA Wolfgang Tschapeller (chair)\, Doz. Mag. Dr. 
 Ao.Univ.-Prof. August Sarnitz (1st and 2nd supervisor)\, and Dr. Beatriz C
 olomina (external appraiser\, Princeton University School of Architecture)
 .
LAST-MODIFIED:20240802T103334Z
URL:https://www.akbild.ac.at/en/research/events/lectures-events/2021/einla
 dung-zur-defensio-von-max-rafael-moya-martinez
END:VEVENT
BEGIN:VTIMEZONE
TZID:Europe/Vienna
X-LIC-LOCATION:Europe/Vienna
BEGIN:DAYLIGHT
DTSTART:20210328T030000
TZNAME:CEST
TZOFFSETFROM:+0100
TZOFFSETTO:+0200
END:DAYLIGHT
END:VTIMEZONE
END:VCALENDAR
