BEGIN:VCALENDAR
VERSION:2.0
PRODID:-//Plone.org//NONSGML plone.app.event//EN
X-WR-TIMEZONE:Europe/Vienna
BEGIN:VEVENT
SUMMARY:Entwurf und Reflexion – Modelle und Werkzeuge künstlerischer In
 tervention
DTSTART;TZID=Europe/Vienna:20211013T100000
DTEND;TZID=Europe/Vienna:20211013T170000
DTSTAMP:20260423T114340Z
UID:c15c3798e2203c48034b411dd0970962@www.akbild.ac.at
CATEGORIES:Vorträge / Veranstaltungen
CREATED:20220312T190037Z
DESCRIPTION:For more information\, please see our\n \n  German website\n \
 n .
LAST-MODIFIED:20240802T103334Z
URL:https://www.akbild.ac.at/en/research/events/lectures-events/2021/entwu
 rf-und-reflexion-2013-modelle-und-werkzeuge-kuenstlerischer-intervention
END:VEVENT
BEGIN:VTIMEZONE
TZID:Europe/Vienna
X-LIC-LOCATION:Europe/Vienna
BEGIN:DAYLIGHT
DTSTART:20210328T030000
TZNAME:CEST
TZOFFSETFROM:+0100
TZOFFSETTO:+0200
END:DAYLIGHT
END:VTIMEZONE
END:VCALENDAR
