BEGIN:VCALENDAR
VERSION:2.0
PRODID:-//Plone.org//NONSGML plone.app.event//EN
X-WR-TIMEZONE:Europe/Vienna
BEGIN:VEVENT
SUMMARY:How to work self-determined and non-linear!
DTSTART;TZID=Europe/Vienna:20211117T130000
DTEND;TZID=Europe/Vienna:20211117T170000
DTSTAMP:20260425T104417Z
UID:c5b175a76415cee8e63df40739c6e297@www.akbild.ac.at
CATEGORIES:Vorträge / Veranstaltungen
CREATED:20220312T190048Z
DESCRIPTION:A journalistic coaching on artistic-creative practice by and w
 ith design journalist Verena Dauerer (Berlin/Tokyo).\n\n\n REGISTRATION un
 til 15.11.2021 with eMail\n \n \n \n  wissenstransfer@akbild.ac.at
LAST-MODIFIED:20240802T103334Z
URL:https://www.akbild.ac.at/en/research/events/lectures-events/2021/so-ar
 beite-ich-selbstbestimmt-und-non-linear
END:VEVENT
BEGIN:VTIMEZONE
TZID:Europe/Vienna
X-LIC-LOCATION:Europe/Vienna
BEGIN:STANDARD
DTSTART:20211031T020000
TZNAME:CET
TZOFFSETFROM:+0200
TZOFFSETTO:+0100
END:STANDARD
END:VTIMEZONE
END:VCALENDAR
