BEGIN:VCALENDAR
VERSION:2.0
PRODID:-//Plone.org//NONSGML plone.app.event//EN
X-WR-TIMEZONE:Europe/Vienna
BEGIN:VEVENT
SUMMARY:Invitation to Defense of Julia Wolf
DTSTART;TZID=Europe/Vienna:20220119T140000
DTSTAMP:20260423T143930Z
UID:0a77ef1a0be2b5c64616c9476304a7f1@www.akbild.ac.at
CATEGORIES:Vorträge / Veranstaltungen
CREATED:20220312T190058Z
DESCRIPTION:The Institute for Education in the Arts of the Academy of Fine
   Arts  Vienna kindly invites you to the Defense of Julia Wolf’s  disser
 tation  project\n \n  Re-Visioning Histories. Contemporary Artistic Practi
 ces of Shifting Histories Based on the Works of Hiwa K and Petrit Halilaj.
LAST-MODIFIED:20240802T103334Z
URL:https://www.akbild.ac.at/en/research/events/lectures-events/2022/einla
 dung-zur-defensio-von-julia-wolf
END:VEVENT
BEGIN:VTIMEZONE
TZID:Europe/Vienna
X-LIC-LOCATION:Europe/Vienna
BEGIN:STANDARD
DTSTART:20211031T020000
TZNAME:CET
TZOFFSETFROM:+0200
TZOFFSETTO:+0100
END:STANDARD
END:VTIMEZONE
END:VCALENDAR
