BEGIN:VCALENDAR
VERSION:2.0
PRODID:-//Plone.org//NONSGML plone.app.event//EN
X-WR-TIMEZONE:Europe/Vienna
BEGIN:VEVENT
SUMMARY:Invitation to Rigorosum of Christina Jauernik
DTSTART;TZID=Europe/Vienna:20221005T170000
DTEND;TZID=Europe/Vienna:20221005T180000
DTSTAMP:20260424T221300Z
UID:b53ffedbb5e74f4884bb7b61cb6f4a42@www.akbild.ac.at
CATEGORIES:Vorträge / Veranstaltungen
CREATED:20220926T141524Z
DESCRIPTION:The Institute for Art and Architecture of the Academy of Fine 
 Arts Vienna kindly invites you to the Rigorosum of Christina Jauernik's di
 ssertation project Touching Distance. Inter-Views with the Virtual.
LAST-MODIFIED:20240802T103334Z
URL:https://www.akbild.ac.at/en/research/events/lectures-events/2022/invit
 ation-to-rigorosum-of-christina-jauernik
END:VEVENT
BEGIN:VTIMEZONE
TZID:Europe/Vienna
X-LIC-LOCATION:Europe/Vienna
BEGIN:DAYLIGHT
DTSTART:20220327T030000
TZNAME:CEST
TZOFFSETFROM:+0100
TZOFFSETTO:+0200
END:DAYLIGHT
END:VTIMEZONE
END:VCALENDAR
