BEGIN:VCALENDAR
VERSION:2.0
PRODID:-//Plone.org//NONSGML plone.app.event//EN
X-WR-TIMEZONE:Europe/Vienna
BEGIN:VEVENT
SUMMARY:Invitation to the Defense of Christoph Kolar
DTSTART;TZID=Europe/Vienna:20221003T100000
DTEND;TZID=Europe/Vienna:20221003T110000
DTSTAMP:20260425T162426Z
UID:04fb4d0a48514b45a15fc1db53d4ad7d@www.akbild.ac.at
CATEGORIES:Vorträge / Veranstaltungen
CREATED:20220926T144644Z
DESCRIPTION:The Institute for Art Theory and Cultural Studies of the Acade
 my of Fine Arts Vienna kindly invites you to the Defense of Christoph Kola
 r's dissertation project Forms of representation of Nazi crimes in the con
 text of Austrian film productions.
LAST-MODIFIED:20240802T103334Z
URL:https://www.akbild.ac.at/en/research/events/lectures-events/2022/invit
 ation-to-the-defense-of-christoph-kolar
END:VEVENT
BEGIN:VTIMEZONE
TZID:Europe/Vienna
X-LIC-LOCATION:Europe/Vienna
BEGIN:DAYLIGHT
DTSTART:20220327T030000
TZNAME:CEST
TZOFFSETFROM:+0100
TZOFFSETTO:+0200
END:DAYLIGHT
END:VTIMEZONE
END:VCALENDAR
