BEGIN:VCALENDAR
VERSION:2.0
PRODID:-//Plone.org//NONSGML plone.app.event//EN
X-WR-TIMEZONE:Europe/Vienna
BEGIN:VEVENT
SUMMARY:Invitation to Defense of Đejmi Hadrović
DTSTART;TZID=Europe/Vienna:20230609T100000
DTEND;TZID=Europe/Vienna:20230609T110000
DTSTAMP:20260424T221239Z
UID:54d3b1db9b2a4f66b91b10208e25391e@www.akbild.ac.at
CATEGORIES:Vorträge / Veranstaltungen
CREATED:20230515T105129Z
DESCRIPTION:The Institute for Fine Arts of the Academy of Fine Arts Vienna
  kindly invites you to the defense of Đejmi Hadrović's dissertation proj
 ect Sexuality and its Manifestation in Post-Yugoslav Cinematography.
LAST-MODIFIED:20240802T103334Z
URL:https://www.akbild.ac.at/en/research/events/lectures-events/2023/invit
 ation-to-defense-of-dejmi-hadrovic
END:VEVENT
BEGIN:VTIMEZONE
TZID:Europe/Vienna
X-LIC-LOCATION:Europe/Vienna
BEGIN:DAYLIGHT
DTSTART:20230326T030000
TZNAME:CEST
TZOFFSETFROM:+0100
TZOFFSETTO:+0200
END:DAYLIGHT
END:VTIMEZONE
END:VCALENDAR
