BEGIN:VCALENDAR
VERSION:2.0
PRODID:-//Plone.org//NONSGML plone.app.event//EN
X-WR-TIMEZONE:Europe/Vienna
BEGIN:VEVENT
SUMMARY:Invitation to the Defense of Virginie Bobin
DTSTART;TZID=Europe/Vienna:20231115T160000
DTEND;TZID=Europe/Vienna:20231115T180000
DTSTAMP:20260425T121600Z
UID:ef83a2eb871e496a923c707b878d3022@www.akbild.ac.at
CATEGORIES:Vorträge / Veranstaltungen
CREATED:20231027T140241Z
DESCRIPTION:The PhD-in-Practice program of the Academy of Fine Arts Vienna
  kindly invites you to the defense of Virginie Bobin´s dissertation proje
 ct "Au risque des autres" Political Gestures and Affective Encounters with
  Translation.
LAST-MODIFIED:20240802T103334Z
URL:https://www.akbild.ac.at/en/research/events/lectures-events/2023/invit
 ation-to-the-defense-of-virginie-bobin
END:VEVENT
BEGIN:VTIMEZONE
TZID:Europe/Vienna
X-LIC-LOCATION:Europe/Vienna
BEGIN:STANDARD
DTSTART:20231029T020000
TZNAME:CET
TZOFFSETFROM:+0200
TZOFFSETTO:+0100
END:STANDARD
END:VTIMEZONE
END:VCALENDAR
