BEGIN:VCALENDAR
VERSION:2.0
PRODID:-//Plone.org//NONSGML plone.app.event//EN
X-WR-TIMEZONE:Europe/Vienna
BEGIN:VEVENT
SUMMARY:Online information meeting for enrollment in the Doctor of Philoso
 phy SuSe 2024
DTSTART;TZID=Europe/Vienna:20240214T103000
DTEND;TZID=Europe/Vienna:20240214T113000
DTSTAMP:20260423T153757Z
UID:8a121717e38f4169945030636c6ec009@www.akbild.ac.at
CATEGORIES:Vorträge / Veranstaltungen
CREATED:20231214T143743Z
DESCRIPTION:We cordially invite those interested in the Doctor of Philosop
 hy program at the Academy of Fine Arts Vienna to attend this online appoin
 tment to learn about enrollment requirements and procedures.
LAST-MODIFIED:20240802T103334Z
URL:https://www.akbild.ac.at/en/research/events/lectures-events/2023/onlin
 e-information-meeting-for-enrollment-in-the-doctor-of-philosophy-suse-2024
END:VEVENT
BEGIN:VTIMEZONE
TZID:Europe/Vienna
X-LIC-LOCATION:Europe/Vienna
BEGIN:STANDARD
DTSTART:20231029T020000
TZNAME:CET
TZOFFSETFROM:+0200
TZOFFSETTO:+0100
END:STANDARD
END:VTIMEZONE
END:VCALENDAR
