BEGIN:VCALENDAR
VERSION:2.0
PRODID:-//Plone.org//NONSGML plone.app.event//EN
X-WR-TIMEZONE:Europe/Vienna
BEGIN:VEVENT
SUMMARY:Winter semester 2023/24 Open Door
DTSTART;TZID=Europe/Vienna:20231121T150000
DTEND;TZID=Europe/Vienna:20231121T163000
DTSTAMP:20260423T153638Z
UID:497313cb1a5d4ae299c8b883b6ad90df@www.akbild.ac.at
CATEGORIES:Vorträge / Veranstaltungen
CREATED:20230822T085644Z
DESCRIPTION:The Doctoral Center welcomes new and continuing doctoral stude
 nts to its open door for the winter semester 2023/24.
LAST-MODIFIED:20240802T103334Z
URL:https://www.akbild.ac.at/en/research/events/lectures-events/2023/winte
 r-semester-2023-24-open-door
END:VEVENT
BEGIN:VTIMEZONE
TZID:Europe/Vienna
X-LIC-LOCATION:Europe/Vienna
BEGIN:STANDARD
DTSTART:20231029T020000
TZNAME:CET
TZOFFSETFROM:+0200
TZOFFSETTO:+0100
END:STANDARD
END:VTIMEZONE
END:VCALENDAR
