BEGIN:VCALENDAR
VERSION:2.0
PRODID:-//Plone.org//NONSGML plone.app.event//EN
X-WR-TIMEZONE:Europe/Vienna
BEGIN:VEVENT
SUMMARY:Invitation to the Defense of Anamarija Batista
DTSTART;TZID=Europe/Vienna:20241106T150000
DTSTAMP:20260425T210504Z
UID:e26b68dee0f74ca68ee8220076b799d0@www.akbild.ac.at
CATEGORIES:Vorträge / Veranstaltungen
CREATED:20241028T085541Z
DESCRIPTION:The Institute for Art Theory and Cultural Studies at the Acade
 my of Fine Arts Vienna kindly invites you to the defense of Anamarija Bati
 sta’s dissertation project The Architect as Instrument Designer: Conceiv
 ing Sound as Variation.
LAST-MODIFIED:20241028T152453Z
URL:https://www.akbild.ac.at/en/research/events/lectures-events/2024/invit
 ation-to-the-defense-of-anamarija-batista
END:VEVENT
BEGIN:VTIMEZONE
TZID:Europe/Vienna
X-LIC-LOCATION:Europe/Vienna
BEGIN:STANDARD
DTSTART:20241027T020000
TZNAME:CET
TZOFFSETFROM:+0200
TZOFFSETTO:+0100
END:STANDARD
END:VTIMEZONE
END:VCALENDAR
