BEGIN:VCALENDAR
VERSION:2.0
PRODID:-//Plone.org//NONSGML plone.app.event//EN
X-WR-TIMEZONE:Europe/Vienna
BEGIN:VEVENT
SUMMARY:Invitation to the Defense of Martina Gimplinger
DTSTART;TZID=Europe/Vienna:20240610T100000
DTSTAMP:20260423T170528Z
UID:7c798545f4b04c8886b2447911bfc2fa@www.akbild.ac.at
CATEGORIES:Vorträge / Veranstaltungen
CREATED:20240523T114030Z
DESCRIPTION:The Institute for Art Theory and Cultural Studies at the Acade
 my of Fine Arts Vienna kindly invites you to the defense of Martina Gimpli
 nger´s dissertation project WAS UNS ANGEHT: Zuschauen als ethische Relati
 on.
LAST-MODIFIED:20240829T122033Z
URL:https://www.akbild.ac.at/en/research/events/lectures-events/2024/invit
 ation-to-the-defense-of-martina-gimplinger
END:VEVENT
BEGIN:VTIMEZONE
TZID:Europe/Vienna
X-LIC-LOCATION:Europe/Vienna
BEGIN:DAYLIGHT
DTSTART:20240331T030000
TZNAME:CEST
TZOFFSETFROM:+0100
TZOFFSETTO:+0200
END:DAYLIGHT
END:VTIMEZONE
END:VCALENDAR
