BEGIN:VCALENDAR
VERSION:2.0
PRODID:-//Plone.org//NONSGML plone.app.event//EN
X-WR-TIMEZONE:Europe/Vienna
BEGIN:VEVENT
SUMMARY:Invitation to the Defense of Nina Kerschbaumer
DTSTART;TZID=Europe/Vienna:20240611T130000
DTSTAMP:20260423T153747Z
UID:20a96577f9264e4395e5e854d1bcfec1@www.akbild.ac.at
CATEGORIES:Vorträge / Veranstaltungen
CREATED:20240523T113034Z
DESCRIPTION:The Institute for Art Theory and Cultural Studies at the Acade
 my of Fine Arts Vienna kindly invites you to the defense of Nina Kerschbau
 mer´s dissertation project Fear and Arbitrariness. On Cultural Value\, Fo
 rm and Function of the Entertainment Genre True Crime.
LAST-MODIFIED:20240829T120036Z
URL:https://www.akbild.ac.at/en/research/events/lectures-events/2024/invit
 ation-to-the-defense-of-nina-kerschbaumer
END:VEVENT
BEGIN:VTIMEZONE
TZID:Europe/Vienna
X-LIC-LOCATION:Europe/Vienna
BEGIN:DAYLIGHT
DTSTART:20240331T030000
TZNAME:CEST
TZOFFSETFROM:+0100
TZOFFSETTO:+0200
END:DAYLIGHT
END:VTIMEZONE
END:VCALENDAR
