BEGIN:VCALENDAR
VERSION:2.0
PRODID:-//Plone.org//NONSGML plone.app.event//EN
X-WR-TIMEZONE:Europe/Vienna
BEGIN:VEVENT
SUMMARY:Summer semester 2024 Open Door
DTSTART;TZID=Europe/Vienna:20240321T140000
DTEND;TZID=Europe/Vienna:20240321T153000
DTSTAMP:20260423T171129Z
UID:13692c72740b4a05a7913e6726a40c56@www.akbild.ac.at
CATEGORIES:Vorträge / Veranstaltungen
CREATED:20240109T131619Z
DESCRIPTION:The Doctoral Center welcomes new and continuing doctoral stude
 nts to its open door for the summer semester 2024.
LAST-MODIFIED:20240802T103334Z
URL:https://www.akbild.ac.at/en/research/events/lectures-events/2024/summe
 r-semester-2024-open-door
END:VEVENT
BEGIN:VTIMEZONE
TZID:Europe/Vienna
X-LIC-LOCATION:Europe/Vienna
BEGIN:STANDARD
DTSTART:20231029T020000
TZNAME:CET
TZOFFSETFROM:+0200
TZOFFSETTO:+0100
END:STANDARD
END:VTIMEZONE
END:VCALENDAR
