BEGIN:VCALENDAR
VERSION:2.0
PRODID:-//Plone.org//NONSGML plone.app.event//EN
X-WR-TIMEZONE:Europe/Vienna
BEGIN:VEVENT
SUMMARY:Info Meeting | PhD in Practice
DTSTART;TZID=Europe/Vienna:20250115T170000
DTEND;TZID=Europe/Vienna:20250115T180000
DTSTAMP:20260423T171026Z
UID:e19e8b1450fa424a8554728fb80eb090@www.akbild.ac.at
CREATED:20241028T145931Z
DESCRIPTION:We cordially invite you to attend this online appointment to l
 earn about the requirements\, the call for submissions and decision proced
 ure of the PhD in Practice program at the Academy of Fine Arts Vienna.
LAST-MODIFIED:20250116T091021Z
URL:https://www.akbild.ac.at/en/research/events/lectures-events/2025/info-
 meeting-phd-in-practice
END:VEVENT
BEGIN:VTIMEZONE
TZID:Europe/Vienna
X-LIC-LOCATION:Europe/Vienna
BEGIN:STANDARD
DTSTART:20241027T020000
TZNAME:CET
TZOFFSETFROM:+0200
TZOFFSETTO:+0100
END:STANDARD
END:VTIMEZONE
END:VCALENDAR
