BEGIN:VCALENDAR
VERSION:2.0
PRODID:-//Plone.org//NONSGML plone.app.event//EN
X-WR-TIMEZONE:Europe/Vienna
BEGIN:VEVENT
SUMMARY:Invitation to the Defense of Aykan Safoğlu
DTSTART;TZID=Europe/Vienna:20250401T160000
DTSTAMP:20260424T221302Z
UID:b4c97471c0564db5a91930e459aac25f@www.akbild.ac.at
CATEGORIES:Vorträge / Veranstaltungen
CREATED:20250312T130118Z
DESCRIPTION:The PhD in Practice program at the Academy of Fine Arts Vienna
  kindly invites you to the defense of Aykan Safoğlu´s dissertation proje
 ct „Flickering migrations: Images of recess\, seizure and redemption for
  German-Turkish debts of becoming“.
LAST-MODIFIED:20250318T101556Z
URL:https://www.akbild.ac.at/en/research/events/lectures-events/2025/invit
 ation-to-the-defense-of-aykan-safoglu
END:VEVENT
BEGIN:VTIMEZONE
TZID:Europe/Vienna
X-LIC-LOCATION:Europe/Vienna
BEGIN:DAYLIGHT
DTSTART:20250330T030000
TZNAME:CEST
TZOFFSETFROM:+0100
TZOFFSETTO:+0200
END:DAYLIGHT
END:VTIMEZONE
END:VCALENDAR
