BEGIN:VCALENDAR
VERSION:2.0
PRODID:-//Plone.org//NONSGML plone.app.event//EN
X-WR-TIMEZONE:Europe/Vienna
BEGIN:VEVENT
SUMMARY:Online information meeting for enrollment in the Doctor of Philoso
 phy SoSe 2025
DTSTART;TZID=Europe/Vienna:20250212T103000
DTEND;TZID=Europe/Vienna:20250212T113000
DTSTAMP:20260423T174000Z
UID:c048d646984a4ccfa06b3c103a0ae3be@www.akbild.ac.at
CREATED:20241121T094843Z
DESCRIPTION:We cordially invite those interested in the Doctor of Philosop
 hy program at the Academy of Fine Arts Vienna to attend this online appoin
 tment to learn about enrollment requirements and procedures.
LAST-MODIFIED:20250424T082543Z
URL:https://www.akbild.ac.at/en/research/events/lectures-events/2025/onlin
 e-information-meeting-for-enrollment-in-the-doctor-of-philosophy-sose-2025
END:VEVENT
BEGIN:VTIMEZONE
TZID:Europe/Vienna
X-LIC-LOCATION:Europe/Vienna
BEGIN:STANDARD
DTSTART:20241027T020000
TZNAME:CET
TZOFFSETFROM:+0200
TZOFFSETTO:+0100
END:STANDARD
END:VTIMEZONE
END:VCALENDAR
