BEGIN:VCALENDAR
VERSION:2.0
PRODID:-//Plone.org//NONSGML plone.app.event//EN
X-WR-TIMEZONE:Europe/Vienna
BEGIN:VEVENT
SUMMARY:Open Door Event Winter Semester 2025/26
DTSTART;TZID=Europe/Vienna:20251119T140000
DTEND;TZID=Europe/Vienna:20251119T153000
DTSTAMP:20260423T155326Z
UID:befd5323e7aa4ed3aeb11037dbe7ac39@www.akbild.ac.at
CATEGORIES:Vorträge / Veranstaltungen
CREATED:20250428T085122Z
DESCRIPTION:The Center for Doctoral Studies welcomes new and continuing do
 ctoral students to an open door event in the winter semester 2025/26.
LAST-MODIFIED:20251118T122117Z
URL:https://www.akbild.ac.at/en/research/events/lectures-events/2025/open-
 door-event-winter-semester-2025-26
END:VEVENT
BEGIN:VTIMEZONE
TZID:Europe/Vienna
X-LIC-LOCATION:Europe/Vienna
BEGIN:STANDARD
DTSTART:20251026T020000
TZNAME:CET
TZOFFSETFROM:+0200
TZOFFSETTO:+0100
END:STANDARD
END:VTIMEZONE
END:VCALENDAR
