BEGIN:VCALENDAR
VERSION:2.0
PRODID:-//Plone.org//NONSGML plone.app.event//EN
X-WR-TIMEZONE:Europe/Vienna
BEGIN:VEVENT
SUMMARY:Open Door Summer Semester 2025
DTSTART;TZID=Europe/Vienna:20250402T140000
DTEND;TZID=Europe/Vienna:20250402T153000
DTSTAMP:20260423T160147Z
UID:20d9f3359f1d4590b279d6f170173e27@www.akbild.ac.at
CATEGORIES:Vorträge / Veranstaltungen
CREATED:20241121T081745Z
DESCRIPTION:The Center for Doctoral Studies welcomes new and continuing do
 ctoral students to an open door event in the summer semester 2025.
LAST-MODIFIED:20250603T083914Z
URL:https://www.akbild.ac.at/en/research/events/lectures-events/2025/open-
 door-summer-semester-2025
END:VEVENT
BEGIN:VTIMEZONE
TZID:Europe/Vienna
X-LIC-LOCATION:Europe/Vienna
BEGIN:DAYLIGHT
DTSTART:20250330T030000
TZNAME:CEST
TZOFFSETFROM:+0100
TZOFFSETTO:+0200
END:DAYLIGHT
END:VTIMEZONE
END:VCALENDAR
