BEGIN:VCALENDAR
VERSION:2.0
PRODID:-//Plone.org//NONSGML plone.app.event//EN
X-WR-TIMEZONE:Europe/Vienna
BEGIN:VEVENT
SUMMARY:Final steps: Submission of your PhD thesis and thesis defense / Ri
 gorosum
DTSTART;TZID=Europe/Vienna:20260114T130000
DTEND;TZID=Europe/Vienna:20260114T153000
DTSTAMP:20260422T164428Z
UID:409e874d01c64e7c835762fe5e777d65@www.akbild.ac.at
CATEGORIES:Vorträge / Veranstaltungen
CREATED:20250407T103220Z
DESCRIPTION:How do I submit my dissertation or PhD thesis? What exactly do
 es revocation application mean in AkademieOnline? How does this relate to 
 the planned publication of my dissertation thesis? Why can a plagiarism ch
 eck before submission be advisable? How and when can I register for my def
 ense or rigorosum?
LAST-MODIFIED:20251216T133357Z
URL:https://www.akbild.ac.at/en/research/events/lectures-events/2026/final
 -steps-submission-of-your-phd-thesis-and-thesis-defense-rigorosum
END:VEVENT
BEGIN:VTIMEZONE
TZID:Europe/Vienna
X-LIC-LOCATION:Europe/Vienna
BEGIN:STANDARD
DTSTART:20251026T020000
TZNAME:CET
TZOFFSETFROM:+0200
TZOFFSETTO:+0100
END:STANDARD
END:VTIMEZONE
END:VCALENDAR
