BEGIN:VCALENDAR
VERSION:2.0
PRODID:-//Plone.org//NONSGML plone.app.event//EN
X-WR-TIMEZONE:Europe/Vienna
BEGIN:VEVENT
SUMMARY:Invitation to the Rigorosum of Sony Devabhaktuni
DTSTART;TZID=Europe/Vienna:20260112T140000
DTEND;TZID=Europe/Vienna:20260112T150000
DTSTAMP:20260422T181753Z
UID:324b8e4f60a3452b849813599228709e@www.akbild.ac.at
CATEGORIES:Vorträge / Veranstaltungen
CREATED:20251217T103058Z
DESCRIPTION:The Institute for Art and Architecture at the Academy of Fine 
 Arts Vienna kindly invites you to the rigorosum of Sony Devabhaktuni´s d
 issertation project "A Space Like Space: The implications of geographer D
 oreen Massey's spatial imagination for architecture".
LAST-MODIFIED:20251217T140904Z
URL:https://www.akbild.ac.at/en/research/events/lectures-events/2026/invit
 ation-to-the-rigorosum-of-sony-devabhaktuni
END:VEVENT
BEGIN:VTIMEZONE
TZID:Europe/Vienna
X-LIC-LOCATION:Europe/Vienna
BEGIN:STANDARD
DTSTART:20251026T020000
TZNAME:CET
TZOFFSETFROM:+0200
TZOFFSETTO:+0100
END:STANDARD
END:VTIMEZONE
END:VCALENDAR
