BEGIN:VCALENDAR
VERSION:2.0
PRODID:-//Plone.org//NONSGML plone.app.event//EN
X-WR-TIMEZONE:Europe/Vienna
BEGIN:VEVENT
SUMMARY:Mandatory briefing on Admission to the Doctor of Philosophy progra
 m
DTSTART;TZID=Europe/Vienna:20260216T150000
DTEND;TZID=Europe/Vienna:20260216T170000
DTSTAMP:20260422T164423Z
UID:2a6f525aefcb4347870b3e87eb9323c1@www.akbild.ac.at
CATEGORIES:Events und Veranstaltungen
CREATED:20260126T131123Z
DESCRIPTION:Participation in an informational meeting is mandatory for adm
 ission to the doctoral program in philosophy in the summer semester 2026.
LAST-MODIFIED:20260126T134249Z
URL:https://www.akbild.ac.at/en/research/events/lectures-events/2026/manda
 tory-briefing-on-admission-to-the-doctor-of-philosophy-program
END:VEVENT
BEGIN:VTIMEZONE
TZID:Europe/Vienna
X-LIC-LOCATION:Europe/Vienna
BEGIN:STANDARD
DTSTART:20251026T020000
TZNAME:CET
TZOFFSETFROM:+0200
TZOFFSETTO:+0100
END:STANDARD
END:VTIMEZONE
END:VCALENDAR
