BEGIN:VCALENDAR
VERSION:2.0
PRODID:-//Plone.org//NONSGML plone.app.event//EN
X-WR-TIMEZONE:Europe/Vienna
BEGIN:VEVENT
SUMMARY:Online info session for enrollment in the Doctor of Philosophy SuS
 e 2026
DTSTART;TZID=Europe/Vienna:20260211T103000
DTEND;TZID=Europe/Vienna:20260211T113000
DTSTAMP:20260422T164546Z
UID:1037f37a8f1249ed8afaffd1cdfa294e@www.akbild.ac.at
CATEGORIES:Vorträge / Veranstaltungen
CREATED:20250922T090300Z
DESCRIPTION:In this online session will address questions regarding the ad
 mission to the Doctor of Philosophy program at the Academy of Fine Arts Vi
 enna — including requirements\, potential challenges\, and prerequisites
 .
LAST-MODIFIED:20250922T090749Z
URL:https://www.akbild.ac.at/en/research/events/lectures-events/2026/onlin
 e-info-session-for-enrollment-in-the-doctor-of-philosophy-suse-2026
END:VEVENT
BEGIN:VTIMEZONE
TZID:Europe/Vienna
X-LIC-LOCATION:Europe/Vienna
BEGIN:STANDARD
DTSTART:20251026T020000
TZNAME:CET
TZOFFSETFROM:+0200
TZOFFSETTO:+0100
END:STANDARD
END:VTIMEZONE
END:VCALENDAR
