BEGIN:VCALENDAR
VERSION:2.0
PRODID:-//Plone.org//NONSGML plone.app.event//EN
X-WR-TIMEZONE:Europe/Vienna
BEGIN:VEVENT
SUMMARY:Online info session for enrollment in the Doctor of Philosophy WiS
 e 2026-27
DTSTART;TZID=Europe/Vienna:20260909T103000
DTEND;TZID=Europe/Vienna:20260909T113000
DTSTAMP:20260422T133650Z
UID:c2ee164979194d3b863b5e5f68ab21ba@www.akbild.ac.at
CATEGORIES:Vorträge / Veranstaltungen
CREATED:20260217T140401Z
DESCRIPTION:In this online session will address questions regarding the ad
 mission to the Doctor of Philosophy program at the Academy of Fine Arts Vi
 enna — including requirements\, potential challenges\, and prerequisites
 .
LAST-MODIFIED:20260217T140438Z
URL:https://www.akbild.ac.at/en/research/events/lectures-events/2026/onlin
 e-info-session-for-enrollment-in-the-doctor-of-philosophy-wise-2026-27
END:VEVENT
BEGIN:VTIMEZONE
TZID:Europe/Vienna
X-LIC-LOCATION:Europe/Vienna
BEGIN:DAYLIGHT
DTSTART:20260329T030000
TZNAME:CEST
TZOFFSETFROM:+0100
TZOFFSETTO:+0200
END:DAYLIGHT
END:VTIMEZONE
END:VCALENDAR
