BEGIN:VCALENDAR
VERSION:2.0
PRODID:-//Plone.org//NONSGML plone.app.event//EN
X-WR-TIMEZONE:Europe/Vienna
BEGIN:VEVENT
SUMMARY:Open Door Event summer semester 2026
DTSTART;TZID=Europe/Vienna:20260325T130000
DTEND;TZID=Europe/Vienna:20260325T143000
DTSTAMP:20260422T181441Z
UID:bc46bd8ce67840f2973ea56489772da0@www.akbild.ac.at
CATEGORIES:Vorträge / Veranstaltungen
CREATED:20251015T121207Z
DESCRIPTION:The Center for Doctoral Studies welcomes all doctoral and PhD 
 students to an open door event in the summer semester 2026.
LAST-MODIFIED:20260414T115548Z
URL:https://www.akbild.ac.at/en/research/events/lectures-events/2026/open-
 door-event-summer-semester-2026
END:VEVENT
BEGIN:VTIMEZONE
TZID:Europe/Vienna
X-LIC-LOCATION:Europe/Vienna
BEGIN:STANDARD
DTSTART:20251026T020000
TZNAME:CET
TZOFFSETFROM:+0200
TZOFFSETTO:+0100
END:STANDARD
END:VTIMEZONE
END:VCALENDAR
