BEGIN:VCALENDAR
VERSION:2.0
PRODID:-//Plone.org//NONSGML plone.app.event//EN
X-WR-TIMEZONE:Europe/Vienna
BEGIN:VEVENT
SUMMARY:Welcome Session for the Doctor of Philosophy
DTSTART;TZID=Europe/Vienna:20260415T130000
DTEND;TZID=Europe/Vienna:20260415T140000
DTSTAMP:20260422T181624Z
UID:0b91078073224f81947ae290a5664871@www.akbild.ac.at
CREATED:20260219T121221Z
DESCRIPTION:We would like to invite all new doctoral students in the Docto
 r of Philosophy program to the Center for Doctoral Studies' Welcome Sessio
 n.
LAST-MODIFIED:20260414T115615Z
URL:https://www.akbild.ac.at/en/research/events/lectures-events/2026/welco
 me-session-for-the-doctor-of-philosophy
END:VEVENT
BEGIN:VTIMEZONE
TZID:Europe/Vienna
X-LIC-LOCATION:Europe/Vienna
BEGIN:DAYLIGHT
DTSTART:20260329T030000
TZNAME:CEST
TZOFFSETFROM:+0100
TZOFFSETTO:+0200
END:DAYLIGHT
END:VTIMEZONE
END:VCALENDAR
