BEGIN:VCALENDAR
VERSION:2.0
PRODID:-//Plone.org//NONSGML plone.app.event//EN
X-WR-TIMEZONE:Europe/Vienna
BEGIN:VEVENT
SUMMARY:Open Door Center for Doctoral Studies
DTSTART;TZID=Europe/Vienna:20170404T100000
DTEND;TZID=Europe/Vienna:20170404T130000
DTSTAMP:20260425T032230Z
UID:d3866d46bc76e827fee4e56bcffafeef@www.akbild.ac.at
CATEGORIES:Workshops
CREATED:20220312T190205Z
DESCRIPTION:With the beginning of this semester the Center for Doctoral St
 udies invites you to a welcome and a get together.
LAST-MODIFIED:20240802T103342Z
URL:https://www.akbild.ac.at/en/research/events/workshops/2017/open-door-d
 oktoratszentrum
END:VEVENT
BEGIN:VTIMEZONE
TZID:Europe/Vienna
X-LIC-LOCATION:Europe/Vienna
BEGIN:DAYLIGHT
DTSTART:20170326T030000
TZNAME:CEST
TZOFFSETFROM:+0100
TZOFFSETTO:+0200
END:DAYLIGHT
END:VTIMEZONE
END:VCALENDAR
