BEGIN:VCALENDAR
VERSION:2.0
PRODID:-//Plone.org//NONSGML plone.app.event//EN
X-WR-TIMEZONE:Europe/Vienna
BEGIN:VEVENT
SUMMARY:Open Door Center for Doctoral Studies
DTSTART;TZID=Europe/Vienna:20171024T140000
DTEND;TZID=Europe/Vienna:20171024T170000
DTSTAMP:20260424T133105Z
UID:4a8c5ae24fb25623cb903f5b36056cf4@www.akbild.ac.at
CATEGORIES:Workshops
CREATED:20220312T190207Z
DESCRIPTION:The Center for Doctoral Studies invites you to a welcome and g
 et together afternoon.
LAST-MODIFIED:20240802T103342Z
URL:https://www.akbild.ac.at/en/research/events/workshops/2017/open-door-d
 oktratszentrum
END:VEVENT
BEGIN:VTIMEZONE
TZID:Europe/Vienna
X-LIC-LOCATION:Europe/Vienna
BEGIN:DAYLIGHT
DTSTART:20170326T030000
TZNAME:CEST
TZOFFSETFROM:+0100
TZOFFSETTO:+0200
END:DAYLIGHT
END:VTIMEZONE
END:VCALENDAR
