BEGIN:VCALENDAR
VERSION:2.0
PRODID:-//Plone.org//NONSGML plone.app.event//EN
X-WR-TIMEZONE:Europe/Vienna
BEGIN:VEVENT
SUMMARY:Coffee Table Co-Writing Sprint
DTSTART;TZID=Europe/Vienna:20201207T130000
DTEND;TZID=Europe/Vienna:20201207T180000
DTSTAMP:20260422T131959Z
UID:78e4194bc64d490e335c6ea63bc5ec53@www.akbild.ac.at
CATEGORIES:Workshops
CREATED:20220312T190233Z
DESCRIPTION:In this co-writing sprint\, we will try out the writing system
  discussed  in the Coffee Table Talk on the same day (7th December 2020).
LAST-MODIFIED:20240802T103342Z
URL:https://www.akbild.ac.at/en/research/events/workshops/2020/coffee-tabl
 e-co-writing-sprint
END:VEVENT
BEGIN:VTIMEZONE
TZID:Europe/Vienna
X-LIC-LOCATION:Europe/Vienna
BEGIN:STANDARD
DTSTART:20201025T020000
TZNAME:CET
TZOFFSETFROM:+0200
TZOFFSETTO:+0100
END:STANDARD
END:VTIMEZONE
END:VCALENDAR
