BEGIN:VCALENDAR
VERSION:2.0
PRODID:-//Plone.org//NONSGML plone.app.event//EN
X-WR-TIMEZONE:Europe/Vienna
BEGIN:VEVENT
SUMMARY:Coffee Table Talk: Creating a writing system
DTSTART;TZID=Europe/Vienna:20201207T100000
DTEND;TZID=Europe/Vienna:20201207T120000
DTSTAMP:20260422T145535Z
UID:13bd858aa5b05453b4e0596d66aaba8a@www.akbild.ac.at
CATEGORIES:Workshops
CREATED:20220312T190232Z
DESCRIPTION:In this Coffee Table Talk\, we will discuss what a writing sys
 tem is\, and   how it can help you to achieve your writing goals realistic
 ally and   efficiently.
LAST-MODIFIED:20240802T103342Z
URL:https://www.akbild.ac.at/en/research/events/workshops/2020/coffee-tabl
 e-talk-creating-a-writing-system
END:VEVENT
BEGIN:VTIMEZONE
TZID:Europe/Vienna
X-LIC-LOCATION:Europe/Vienna
BEGIN:STANDARD
DTSTART:20201025T020000
TZNAME:CET
TZOFFSETFROM:+0200
TZOFFSETTO:+0100
END:STANDARD
END:VTIMEZONE
END:VCALENDAR
