BEGIN:VCALENDAR
VERSION:2.0
PRODID:-//Plone.org//NONSGML plone.app.event//EN
X-WR-TIMEZONE:Europe/Vienna
BEGIN:VEVENT
SUMMARY:Coffee Table Talk: Transitioning into a Post-doc
DTSTART;TZID=Europe/Vienna:20201118T140000
DTEND;TZID=Europe/Vienna:20201118T160000
DTSTAMP:20260422T164117Z
UID:67691be89c6df10d0e3d1bf0a50a9633@www.akbild.ac.at
CATEGORIES:Workshops
CREATED:20220312T190230Z
DESCRIPTION:This Coffee Table Talk adresses the crucial phase of transitio
 ning from your PhD research to Post-doc research.
LAST-MODIFIED:20240802T103342Z
URL:https://www.akbild.ac.at/en/research/events/workshops/2020/coffee-tabl
 e-talk-transitioning-into-a-post-doc
END:VEVENT
BEGIN:VTIMEZONE
TZID:Europe/Vienna
X-LIC-LOCATION:Europe/Vienna
BEGIN:STANDARD
DTSTART:20201025T020000
TZNAME:CET
TZOFFSETFROM:+0200
TZOFFSETTO:+0100
END:STANDARD
END:VTIMEZONE
END:VCALENDAR
