BEGIN:VCALENDAR
VERSION:2.0
PRODID:-//Plone.org//NONSGML plone.app.event//EN
X-WR-TIMEZONE:Europe/Vienna
BEGIN:VEVENT
SUMMARY:Workshop: Online conference presentations
DTSTART;TZID=Europe/Vienna:20210121T130000
DTEND;TZID=Europe/Vienna:20210121T170000
DTSTAMP:20260424T105019Z
UID:24c08382fb750345a74dc1b3983ab89d@www.akbild.ac.at
CATEGORIES:Workshops
CREATED:20220312T190236Z
DESCRIPTION:This half-day workshop focuses on the art of participating con
 vincingly in an online conference\, be it as presenter\, moderator\, or si
 mply as attendee.
LAST-MODIFIED:20240802T103342Z
URL:https://www.akbild.ac.at/en/research/events/workshops/2021/workshop-on
 line-conference-presentations
END:VEVENT
BEGIN:VTIMEZONE
TZID:Europe/Vienna
X-LIC-LOCATION:Europe/Vienna
BEGIN:STANDARD
DTSTART:20201025T020000
TZNAME:CET
TZOFFSETFROM:+0200
TZOFFSETTO:+0100
END:STANDARD
END:VTIMEZONE
END:VCALENDAR
