BEGIN:VCALENDAR
VERSION:2.0
PRODID:-//Plone.org//NONSGML plone.app.event//EN
X-WR-TIMEZONE:Europe/Vienna
BEGIN:VEVENT
SUMMARY:Coffee Table Talk | ÖAW DOC application
DTSTART;TZID=Europe/Vienna:20220525T150000
DTEND;TZID=Europe/Vienna:20220525T180000
DTSTAMP:20260422T133219Z
UID:0463392d10e010b979504492e665b4ad@www.akbild.ac.at
CATEGORIES:Workshops
CREATED:20220312T190248Z
DESCRIPTION:The Center for Doctoral Studies invites all doctoral students 
 of the Academy of Fine Arts Vienna to participate in an informative meetin
 g about the preparation of an ÖAW DOC application.
LAST-MODIFIED:20240802T103342Z
URL:https://www.akbild.ac.at/en/research/events/workshops/2022/coffee-tabl
 e-talk-oeaw-doc-antrag-schreiben
END:VEVENT
BEGIN:VTIMEZONE
TZID:Europe/Vienna
X-LIC-LOCATION:Europe/Vienna
BEGIN:DAYLIGHT
DTSTART:20220327T030000
TZNAME:CEST
TZOFFSETFROM:+0100
TZOFFSETTO:+0200
END:DAYLIGHT
END:VTIMEZONE
END:VCALENDAR
