BEGIN:VCALENDAR
VERSION:2.0
PRODID:-//Plone.org//NONSGML plone.app.event//EN
X-WR-TIMEZONE:Europe/Vienna
BEGIN:VEVENT
SUMMARY:CANCELLATION: Pathways to an early postdoc career
DTSTART;TZID=Europe/Vienna:20230119T150000
DTEND;TZID=Europe/Vienna:20230119T180000
DTSTAMP:20260422T021211Z
UID:50e63f57d53448679c3618fdd75bd7cc@www.akbild.ac.at
CREATED:20221214T123319Z
DESCRIPTION:Unfortunately\, we had to cancel this event on short notice.
LAST-MODIFIED:20240802T103342Z
URL:https://www.akbild.ac.at/en/research/events/workshops/2022/coffee-tabl
 e-talk-pathways-to-an-early-postdoc-career
END:VEVENT
BEGIN:VTIMEZONE
TZID:Europe/Vienna
X-LIC-LOCATION:Europe/Vienna
BEGIN:STANDARD
DTSTART:20221030T020000
TZNAME:CET
TZOFFSETFROM:+0200
TZOFFSETTO:+0100
END:STANDARD
END:VTIMEZONE
END:VCALENDAR
