BEGIN:VCALENDAR
VERSION:2.0
PRODID:-//Plone.org//NONSGML plone.app.event//EN
X-WR-TIMEZONE:Europe/Vienna
BEGIN:VEVENT
SUMMARY:Summer semester 2022 Open Door
DTSTART;TZID=Europe/Vienna:20220317T150000
DTEND;TZID=Europe/Vienna:20220317T170000
DTSTAMP:20260424T181347Z
UID:83c3dee66d24bc3fb9582a242af31e60@www.akbild.ac.at
CATEGORIES:Workshops
CREATED:20220312T190246Z
DESCRIPTION:The Doctoral Center welcomes new and continuing doctoral stude
 nts to its open door for the summer semester 2022.
LAST-MODIFIED:20240802T103342Z
URL:https://www.akbild.ac.at/en/research/events/workshops/2022/open-door-s
 ommersemester-2022
END:VEVENT
BEGIN:VTIMEZONE
TZID:Europe/Vienna
X-LIC-LOCATION:Europe/Vienna
BEGIN:STANDARD
DTSTART:20211031T020000
TZNAME:CET
TZOFFSETFROM:+0200
TZOFFSETTO:+0100
END:STANDARD
END:VTIMEZONE
END:VCALENDAR
