BEGIN:VCALENDAR
VERSION:2.0
PRODID:-//Plone.org//NONSGML plone.app.event//EN
X-WR-TIMEZONE:Europe/Vienna
BEGIN:VEVENT
SUMMARY:Academic Writing in English at Doctoral Level:  interweaving theor
 y\, creativity\, and practice
DTSTART;TZID=Europe/Vienna:20231009T090000
DTEND;TZID=Europe/Vienna:20231009T170000
DTSTAMP:20260423T161715Z
UID:7af8bd07af4e420bb4e7312a69426280@www.akbild.ac.at
CATEGORIES:Workshops
CREATED:20230505T134657Z
DESCRIPTION:This workshop is designed to guide doctoral students at the Ak
 ademie der bildenden Künste Wien in their academic writing.
LAST-MODIFIED:20240802T103342Z
URL:https://www.akbild.ac.at/en/research/events/workshops/2023/academic-wr
 iting-in-english-at-doctoral-level-interweaving-theory-creativity-and-prac
 tice-1
END:VEVENT
BEGIN:VTIMEZONE
TZID:Europe/Vienna
X-LIC-LOCATION:Europe/Vienna
BEGIN:DAYLIGHT
DTSTART:20230326T030000
TZNAME:CEST
TZOFFSETFROM:+0100
TZOFFSETTO:+0200
END:DAYLIGHT
END:VTIMEZONE
END:VCALENDAR
