BEGIN:VCALENDAR
VERSION:2.0
PRODID:-//Plone.org//NONSGML plone.app.event//EN
X-WR-TIMEZONE:Europe/Vienna
BEGIN:VEVENT
SUMMARY:ÖAW DOC application
DTSTART;TZID=Europe/Vienna:20230525T150000
DTEND;TZID=Europe/Vienna:20230525T180000
DTSTAMP:20260424T042749Z
UID:8bf0498ac83c42ff953b30617597ab69@www.akbild.ac.at
CREATED:20230322T142642Z
DESCRIPTION:The Center for Doctoral Studies invites all doctoral candidate
 s of the Academy of Fine Arts Vienna to participate in an informative meet
 ing about the preparation of an ÖAW DOC application.
LAST-MODIFIED:20240802T103342Z
URL:https://www.akbild.ac.at/en/research/events/workshops/2023/coffee-tabl
 e-talk-oaw-doc-application
END:VEVENT
BEGIN:VTIMEZONE
TZID:Europe/Vienna
X-LIC-LOCATION:Europe/Vienna
BEGIN:DAYLIGHT
DTSTART:20230326T030000
TZNAME:CEST
TZOFFSETFROM:+0100
TZOFFSETTO:+0200
END:DAYLIGHT
END:VTIMEZONE
END:VCALENDAR
