BEGIN:VCALENDAR
VERSION:2.0
PRODID:-//Plone.org//NONSGML plone.app.event//EN
X-WR-TIMEZONE:Europe/Vienna
BEGIN:VEVENT
SUMMARY:Pathways to an Early Postdoc Career
DTSTART;TZID=Europe/Vienna:20231122T100000
DTEND;TZID=Europe/Vienna:20231122T113000
DTSTAMP:20260424T122836Z
UID:fe5eea183ed94e3482c5f5f0851e7c10@www.akbild.ac.at
CREATED:20231018T130224Z
DESCRIPTION:The Research Service and the Center for Doctoral Studies kindl
 y invite all interested doctoral candidates and all (early) postdocs to pa
 rticipate in an informal meeting to exchange experiences and ideas on how 
 to start an early postdoc career.
LAST-MODIFIED:20240802T103342Z
URL:https://www.akbild.ac.at/en/research/events/workshops/2023/pathways-to
 -an-early-postdoc-career
END:VEVENT
BEGIN:VTIMEZONE
TZID:Europe/Vienna
X-LIC-LOCATION:Europe/Vienna
BEGIN:STANDARD
DTSTART:20231029T020000
TZNAME:CET
TZOFFSETFROM:+0200
TZOFFSETTO:+0100
END:STANDARD
END:VTIMEZONE
END:VCALENDAR
