BEGIN:VCALENDAR
VERSION:2.0
PRODID:-//Plone.org//NONSGML plone.app.event//EN
X-WR-TIMEZONE:Europe/Vienna
BEGIN:VEVENT
SUMMARY:OeAW | DOC application writing (SuSe 2024)
DTSTART;TZID=Europe/Vienna:20240522T140000
DTEND;TZID=Europe/Vienna:20240522T170000
DTSTAMP:20260423T170345Z
UID:ca15c8534be843c9b7a0c065ef67104c@www.akbild.ac.at
CREATED:20240109T134228Z
DESCRIPTION:The Center for Doctoral Studies invites all doctoral candidate
 s of the Academy of Fine Arts Vienna to participate in an informative meet
 ing about the preparation of an ÖAW DOC application.
LAST-MODIFIED:20240802T103342Z
URL:https://www.akbild.ac.at/en/research/events/workshops/2024/oaw-doc-app
 lication-suse-2024
END:VEVENT
BEGIN:VTIMEZONE
TZID:Europe/Vienna
X-LIC-LOCATION:Europe/Vienna
BEGIN:DAYLIGHT
DTSTART:20240331T030000
TZNAME:CEST
TZOFFSETFROM:+0100
TZOFFSETTO:+0200
END:DAYLIGHT
END:VTIMEZONE
END:VCALENDAR
